BEGIN:VCALENDAR
VERSION:2.0
PRODID:-//Narcotics Anonymous Belgium - ECPv5.1.5//NONSGML v1.0//EN
CALSCALE:GREGORIAN
METHOD:PUBLISH
X-WR-CALNAME:Narcotics Anonymous Belgium
X-ORIGINAL-URL:https://na-belgium.org
X-WR-CALDESC:Events for Narcotics Anonymous Belgium
BEGIN:VTIMEZONE
TZID:UTC
BEGIN:STANDARD
TZOFFSETFROM:+0000
TZOFFSETTO:+0000
TZNAME:UTC
DTSTART:20250101T000000
END:STANDARD
END:VTIMEZONE
BEGIN:VEVENT
DTSTART;TZID=UTC:20250914T140000
DTEND;TZID=UTC:20250914T190000
DTSTAMP:20260424T232045
CREATED:20250822T162019Z
LAST-MODIFIED:20250822T163019Z
UID:2940-1757858400-1757876400@na-belgium.org
SUMMARY:Fundraising BBQ + Speaker
DESCRIPTION:Op 14 september organiseert Green&Gold een Fundraising BBQ in Buurthuis Unik (Fransenplaats 1\, 2018 Antwerpen).\nVanaf 14u starten we met enkele sprekers\, daarna kan je gezellig mee aanschuiven aan de BBQ. \nInschrijvingen kunnen vanaf nu tot 7 september tickets hier. \n  \n \n \n
URL:https://na-belgium.org/en/event/fundraising-bbq-speaker/
LOCATION:Buurthuis Unik\, Fransenplaats 1\, Antwerpen\, 2018\, Belgium
CATEGORIES:Fundraising
END:VEVENT
END:VCALENDAR