BEGIN:VCALENDAR
VERSION:2.0
PRODID:-//Narcotics Anonymous Belgium - ECPv5.1.5//NONSGML v1.0//EN
CALSCALE:GREGORIAN
METHOD:PUBLISH
X-WR-CALNAME:Narcotics Anonymous Belgium
X-ORIGINAL-URL:https://na-belgium.org
X-WR-CALDESC:Events for Narcotics Anonymous Belgium
BEGIN:VTIMEZONE
TZID:UTC
BEGIN:STANDARD
TZOFFSETFROM:+0000
TZOFFSETTO:+0000
TZNAME:UTC
DTSTART:20250101T000000
END:STANDARD
END:VTIMEZONE
BEGIN:VEVENT
DTSTART;TZID=UTC:20250615T140000
DTEND;TZID=UTC:20250615T170000
DTSTAMP:20260420T084802
CREATED:20250525T051638Z
LAST-MODIFIED:20250525T051638Z
UID:2825-1749996000-1750006800@na-belgium.org
SUMMARY:PETANQUE TOURNAMENT
DESCRIPTION:Fundraising event \n \n
URL:https://na-belgium.org/en/event/petanque-tournament/
LOCATION:Ossmi voetbal\, Kapelsesteenweg 72\,\, Brasschaat\, 2930
CATEGORIES:Fundraising
END:VEVENT
END:VCALENDAR