BEGIN:VCALENDAR
VERSION:2.0
PRODID:-//Narcotics Anonymous Belgium - ECPv5.1.5//NONSGML v1.0//EN
CALSCALE:GREGORIAN
METHOD:PUBLISH
X-WR-CALNAME:Narcotics Anonymous Belgium
X-ORIGINAL-URL:https://na-belgium.org
X-WR-CALDESC:Events for Narcotics Anonymous Belgium
BEGIN:VTIMEZONE
TZID:UTC
BEGIN:STANDARD
TZOFFSETFROM:+0000
TZOFFSETTO:+0000
TZNAME:UTC
DTSTART:20250101T000000
END:STANDARD
END:VTIMEZONE
BEGIN:VEVENT
DTSTART;TZID=UTC:20250921T143000
DTEND;TZID=UTC:20250921T180000
DTSTAMP:20260424T231939
CREATED:20250721T094708Z
LAST-MODIFIED:20250721T094708Z
UID:2865-1758465000-1758477600@na-belgium.org
SUMMARY:Recovery On Screen
DESCRIPTION: \n
URL:https://na-belgium.org/en/event/recovery-on-screen/
LOCATION:De cinema@ de studio\, Maarschalk Gerardstraat 4\, Antwerpen\, 2000
CATEGORIES:Event,Fundraising
END:VEVENT
END:VCALENDAR