BEGIN:VCALENDAR
VERSION:2.0
PRODID:-//Narcotiques Anonymes Belgique - ECPv5.1.5//NONSGML v1.0//EN
CALSCALE:GREGORIAN
METHOD:PUBLISH
X-WR-CALNAME:Narcotiques Anonymes Belgique
X-ORIGINAL-URL:https://na-belgium.org
X-WR-CALDESC:Évènements pour Narcotiques Anonymes Belgique
BEGIN:VTIMEZONE
TZID:UTC
BEGIN:STANDARD
TZOFFSETFROM:+0000
TZOFFSETTO:+0000
TZNAME:UTC
DTSTART:20250101T000000
END:STANDARD
END:VTIMEZONE
BEGIN:VEVENT
DTSTART;TZID=UTC:20250831T140000
DTEND;TZID=UTC:20250831T170000
DTSTAMP:20260425T020651
CREATED:20250830T175530Z
LAST-MODIFIED:20250830T175530Z
UID:2967-1756648800-1756659600@na-belgium.org
SUMMARY:NA Summer Picnic with Quiz\, sunday 31 08 2025 @ Bois de la Cambre\, Brussels
DESCRIPTION: \n
URL:https://na-belgium.org/fr/event/na-summer-picnic-with-quiz-sunday-31-08-2025-bois-de-la-cambre-brussels/
CATEGORIES:Event
END:VEVENT
END:VCALENDAR