BEGIN:VCALENDAR
VERSION:2.0
PRODID:-//Narcotiques Anonymes Belgique - ECPv5.1.5//NONSGML v1.0//EN
CALSCALE:GREGORIAN
METHOD:PUBLISH
X-WR-CALNAME:Narcotiques Anonymes Belgique
X-ORIGINAL-URL:https://na-belgium.org
X-WR-CALDESC:Évènements pour Narcotiques Anonymes Belgique
BEGIN:VTIMEZONE
TZID:UTC
BEGIN:STANDARD
TZOFFSETFROM:+0000
TZOFFSETTO:+0000
TZNAME:UTC
DTSTART:20250101T000000
END:STANDARD
END:VTIMEZONE
BEGIN:VEVENT
DTSTART;TZID=UTC:20250906T110000
DTEND;TZID=UTC:20250906T180000
DTSTAMP:20260425T003741
CREATED:20250519T162659Z
LAST-MODIFIED:20250519T162836Z
UID:2818-1757156400-1757181600@na-belgium.org
SUMMARY:Unity Day Fundraising event
DESCRIPTION:QR code sur l’affiche renvoie vers un formulaire d’inscription. \n \n
URL:https://na-belgium.org/fr/event/unity-day-fundraising-event/
LOCATION:Rue Madyol\, Rue Madyol 5\, Bruxelles\, 1200\, Belgium
END:VEVENT
END:VCALENDAR