BEGIN:VCALENDAR
VERSION:2.0
PRODID:-//Narcotics Anonymous België - ECPv5.1.5//NONSGML v1.0//EN
CALSCALE:GREGORIAN
METHOD:PUBLISH
X-WR-CALNAME:Narcotics Anonymous België
X-ORIGINAL-URL:https://na-belgium.org
X-WR-CALDESC:Evenementen voor Narcotics Anonymous België
BEGIN:VTIMEZONE
TZID:UTC
BEGIN:STANDARD
TZOFFSETFROM:+0000
TZOFFSETTO:+0000
TZNAME:UTC
DTSTART:20250101T000000
END:STANDARD
END:VTIMEZONE
BEGIN:VEVENT
DTSTART;VALUE=DATE:20251231
DTEND;VALUE=DATE:20260102
DTSTAMP:20260425T032622
CREATED:20251218T085950Z
LAST-MODIFIED:20251218T085950Z
UID:3106-1767139200-1767311999@na-belgium.org
SUMMARY:Nouvel An – Nieuwjaar – New Year NA 2025
DESCRIPTION: \n
URL:https://na-belgium.org/nl/event/nouvel-an-nieuwjaar-new-year-na-2025/
LOCATION:Ferme de Holleken\, Rue Hollebeek\, 212\, Linkebeek\, 1630\, Belgium
CATEGORIES:Nouvel An
END:VEVENT
END:VCALENDAR